BEGIN:VCALENDAR
VERSION:2.0
PRODID:-//Waterloo Undergraduate Student Association - ECPv6.15.20//NONSGML v1.0//EN
CALSCALE:GREGORIAN
METHOD:PUBLISH
X-WR-CALNAME:Waterloo Undergraduate Student Association
X-ORIGINAL-URL:https://wusa.ca
X-WR-CALDESC:Events for Waterloo Undergraduate Student Association
REFRESH-INTERVAL;VALUE=DURATION:PT1H
X-Robots-Tag:noindex
X-PUBLISHED-TTL:PT1H
BEGIN:VTIMEZONE
TZID:America/Toronto
BEGIN:DAYLIGHT
TZOFFSETFROM:-0500
TZOFFSETTO:-0400
TZNAME:EDT
DTSTART:20250309T070000
END:DAYLIGHT
BEGIN:STANDARD
TZOFFSETFROM:-0400
TZOFFSETTO:-0500
TZNAME:EST
DTSTART:20251102T060000
END:STANDARD
BEGIN:DAYLIGHT
TZOFFSETFROM:-0500
TZOFFSETTO:-0400
TZNAME:EDT
DTSTART:20260308T070000
END:DAYLIGHT
BEGIN:STANDARD
TZOFFSETFROM:-0400
TZOFFSETTO:-0500
TZNAME:EST
DTSTART:20261101T060000
END:STANDARD
BEGIN:DAYLIGHT
TZOFFSETFROM:-0500
TZOFFSETTO:-0400
TZNAME:EDT
DTSTART:20270314T070000
END:DAYLIGHT
BEGIN:STANDARD
TZOFFSETFROM:-0400
TZOFFSETTO:-0500
TZNAME:EST
DTSTART:20271107T060000
END:STANDARD
END:VTIMEZONE
BEGIN:VEVENT
DTSTART;TZID=America/Toronto:20260407T110000
DTEND;TZID=America/Toronto:20260407T150000
DTSTAMP:20260421T071654
CREATED:20260219T190601Z
LAST-MODIFIED:20260219T190601Z
UID:10003883-1775559600-1775574000@wusa.ca
SUMMARY:Toons & Crunch
DESCRIPTION:Remember Saturday mornings with your favourite cartoons and a big bowl of cereal? Let’s bring that nostalgia to campus! Join us for Toons & Crunch – a free\, drop-in event where you can relive your childhood favourites\, snack on cereal\, and hang out with friends.  \n📅 Date: Tuesday\, April 7\n🕚 Time: 11:00 AM – 3:00 PM\n📍 Location: SLC Great Hall  \nThis free\, all-ages event is open to all Waterloo undergrads.  WatCard is required for entry. 💛🖤 Come connect\, hang out\, and make new friends on campus!  \n  \n👇 RSVP your spot below! 🎉 \n \n👉 Mark your calendars\, rally your crew\, see you there!  \n🕔 RSVPs open Thursday\, Feb 19 at 2 PM and close Tuesday\, April 7 at 11 AM\, or once spots are full. A few spots will be available at the door—arrive early to grab one!  \nStay in the loop—follow our socials and join our IG broadcast channel for exclusive event updates!   \nQuestions related to the event? Email events@wusa.ca  \nDisclaimer: Photographers and videographers will record this event. Images and audio may be broadcast\, reproduced and/or made available in print publications\, online or on mobile devices\, and may form part of one or more audio-visual productions intended for initial release on the internet\, television and on home or mobile devices. By attending this event\, you are consenting to the use of your appearance\, image\, and voice in the production and in any promotion or use of the production in any media throughout the world.    \nEvent is subject to change. Visit this page for the most up to date details. 
URL:https://wusa.ca/event/toons-crunch/
LOCATION:SLC Great Hall\, 200 University Ave W\, SLC\, Waterloo\, Ontario\, N2L 3G1\, Canada
CATEGORIES:Food Event
ATTACH;FMTTYPE=image/png:https://wusa.ca/wp-content/uploads/2026/02/Toons-and-Crunch_Web-scaled.png
ORGANIZER;CN="Waterloo Undergraduate Student Association (WUSA)":MAILTO:events@wusa.ca
GEO:43.4716415;-80.5453385
X-APPLE-STRUCTURED-LOCATION;VALUE=URI;X-ADDRESS=SLC Great Hall 200 University Ave W SLC Waterloo Ontario N2L 3G1 Canada;X-APPLE-RADIUS=500;X-TITLE=200 University Ave W\, SLC:geo:-80.5453385,43.4716415
END:VEVENT
END:VCALENDAR