BEGIN:VCALENDAR
VERSION:2.0
PRODID:-//Waterloo Undergraduate Student Association - ECPv6.15.20//NONSGML v1.0//EN
CALSCALE:GREGORIAN
METHOD:PUBLISH
X-WR-CALNAME:Waterloo Undergraduate Student Association
X-ORIGINAL-URL:https://wusa.ca
X-WR-CALDESC:Events for Waterloo Undergraduate Student Association
REFRESH-INTERVAL;VALUE=DURATION:PT1H
X-Robots-Tag:noindex
X-PUBLISHED-TTL:PT1H
BEGIN:VTIMEZONE
TZID:America/Toronto
BEGIN:DAYLIGHT
TZOFFSETFROM:-0500
TZOFFSETTO:-0400
TZNAME:EDT
DTSTART:20250309T070000
END:DAYLIGHT
BEGIN:STANDARD
TZOFFSETFROM:-0400
TZOFFSETTO:-0500
TZNAME:EST
DTSTART:20251102T060000
END:STANDARD
BEGIN:DAYLIGHT
TZOFFSETFROM:-0500
TZOFFSETTO:-0400
TZNAME:EDT
DTSTART:20260308T070000
END:DAYLIGHT
BEGIN:STANDARD
TZOFFSETFROM:-0400
TZOFFSETTO:-0500
TZNAME:EST
DTSTART:20261101T060000
END:STANDARD
BEGIN:DAYLIGHT
TZOFFSETFROM:-0500
TZOFFSETTO:-0400
TZNAME:EDT
DTSTART:20270314T070000
END:DAYLIGHT
BEGIN:STANDARD
TZOFFSETFROM:-0400
TZOFFSETTO:-0500
TZNAME:EST
DTSTART:20271107T060000
END:STANDARD
END:VTIMEZONE
BEGIN:VEVENT
DTSTART;TZID=America/Toronto:20260326T190000
DTEND;TZID=America/Toronto:20260326T230000
DTSTAMP:20260421T083331
CREATED:20260224T200834Z
LAST-MODIFIED:20260323T193114Z
UID:10003893-1774551600-1774566000@wusa.ca
SUMMARY:2016 Rewind: End of Term Video Dance Party The Bomber - All Ages
DESCRIPTION:🚨 LOCATION UPDATE 🚨New venue: The Bomber \n______________________ \nWaterloo… we’re throwing it all the way back.  \nVideo dance party\, throwback vibes\, and swag for the first 100 — you do not want to miss this.  \nThink: peak Vine chaos. Snapchat stories with dog filters. Spotify in its prime.\n“Sorry” on repeat. Adidas track pants. Kylie lip kits.  \nThe golden age of 2016.  \nOn Thursday\, March 26 (7–11PM)\, we’re taking over The Bomber for one last blowout before exam season hits.  \nThis is your main character moment.\nYour end of term send off.\nYour “I survived the semester” celebration.  \n✨ The Vibe: 2016 Core  \nWe’re talking:  \n\nThrowback anthems all night \n2016 fits (yes\, that includes chokers and bomber jackets) \nDance floor energy > study grind energy \nPhotobooth for all your iconic 2016 selfies \nCandy bar \nBracelet making station for some DIY nostalgia \n\nIf you were in middle school in 2016\, this is your redemption arc. If you peaked in 2016… this is your reunion tour.  \nFood + drinks? Say less. Available while they last. \nWe’re bringing the heat with:Fried chicken tenders\, fries\, and onion rings from PopeyesFree pop to keep you going all night \nPull up early so you don’t miss out 👀 \n🕔 RSVPs open Monday\, March 2 at 12 PM (or until spots fill).\nSpots will also be available at the door — arrive early.  \n🎁 Limited Edition Swag  \nThe first 100 people to check in score an exclusive swag bag. First come\, first served. While supplies last.   \nShow up early to snag yours!  \n⚠️ Important Details  \n\nFree entry\nAll ages event\nExclusive to Waterloo undergraduate students \nWatCard + event ticket required for check-in \n\nSecure your spot and grab your tickets below! 🎟️  \nGet your crew. Plan the fits. Charge your phone to 100%.  \nWe’ll see you on the dance floor. 💿🔥  \nStay in the loop—follow our socials and join our IG broadcast channel for exclusive event updates!   \nQuestions related to the event? Email events@wusa.ca  \nLeaving the video dance party after dark?\nYou don’t have to walk alone. WUSA’s new WalkSafe program pairs students with trained volunteers to walk with you across campus in the evening. It’s free\, friendly\, and made just for students like you.\n \nLearn more or request a walk at WalkSafe – Waterloo Undergraduate Student Association \nDisclaimer: Photographers & videographers will record this event. Images and audio may be broadcast\, reproduced and/or made available in print publications\, online or on mobile devices\, and may form part of one or more audio-visual productions intended for initial release on the internet\, television and on home or mobile devices. By attending this event\, you are consenting to the use of your appearance\, image\, and voice in the production and in any promotion or use of the production in any media throughout the world.    \nEvent is subject to change. Visit this page for the most up to date details. 
URL:https://wusa.ca/event/2016-rewind/
LOCATION:ON
CATEGORIES:Dance Party,The Bomber
ATTACH;FMTTYPE=image/png:https://wusa.ca/wp-content/uploads/2026/02/2016-Rewind_Web-1.png
ORGANIZER;CN="Waterloo Undergraduate Student Association (WUSA)":MAILTO:events@wusa.ca
END:VEVENT
END:VCALENDAR