BEGIN:VCALENDAR
VERSION:2.0
PRODID:-//Waterloo Undergraduate Student Association - ECPv6.15.20//NONSGML v1.0//EN
CALSCALE:GREGORIAN
METHOD:PUBLISH
X-ORIGINAL-URL:https://wusa.ca
X-WR-CALDESC:Events for Waterloo Undergraduate Student Association
REFRESH-INTERVAL;VALUE=DURATION:PT1H
X-Robots-Tag:noindex
X-PUBLISHED-TTL:PT1H
BEGIN:VTIMEZONE
TZID:America/Toronto
BEGIN:DAYLIGHT
TZOFFSETFROM:-0500
TZOFFSETTO:-0400
TZNAME:EDT
DTSTART:20250309T070000
END:DAYLIGHT
BEGIN:STANDARD
TZOFFSETFROM:-0400
TZOFFSETTO:-0500
TZNAME:EST
DTSTART:20251102T060000
END:STANDARD
BEGIN:DAYLIGHT
TZOFFSETFROM:-0500
TZOFFSETTO:-0400
TZNAME:EDT
DTSTART:20260308T070000
END:DAYLIGHT
BEGIN:STANDARD
TZOFFSETFROM:-0400
TZOFFSETTO:-0500
TZNAME:EST
DTSTART:20261101T060000
END:STANDARD
BEGIN:DAYLIGHT
TZOFFSETFROM:-0500
TZOFFSETTO:-0400
TZNAME:EDT
DTSTART:20270314T070000
END:DAYLIGHT
BEGIN:STANDARD
TZOFFSETFROM:-0400
TZOFFSETTO:-0500
TZNAME:EST
DTSTART:20271107T060000
END:STANDARD
END:VTIMEZONE
BEGIN:VEVENT
DTSTART;TZID=America/Toronto:20260325T170000
DTEND;TZID=America/Toronto:20260325T190000
DTSTAMP:20260421T083455
CREATED:20260218T184000Z
LAST-MODIFIED:20260325T174951Z
UID:10003869-1774458000-1774465200@wusa.ca
SUMMARY:Annual Members' Meeting
DESCRIPTION:Join us for the hybrid Annual Members’ Meeting—attend in person at the Student Life Centre or online. Hear from student leaders\, review proposals\, and influence the direction of your student association. \n📱 Bring a charged device to participate in live voting during the meeting. \nFree food will be available for the first 100 attendees with a WatCard! We’ll be serving wraps and fries—choose chicken or veggie\, with gluten-free options for both\, and fries are gluten free. \nAlthough the motion submission deadline has passed\, all students are encouraged to follow the discussions and updates. \nThe agenda can be found here: WUSA’s 2026 Annual Members’ Meeting Agenda \nAttending Online?\nFirst\, log in to meetings.wusa.ca using your university credentials. Then join this registration chat so we can enable your access to participate in the meeting. \nAttending In Person?\nBring your phone or laptop — when you arrive\, log in to meetings.wusa.ca using your university credentials\, then visit the registration booth so we can enable your access. \nNeed help getting set up?\nHow to Attend the Meeting Online:\n📖 Step-by-step guide\n🎥 Video walkthrough \nNavigating the Members Meeting Website:\n📖 Step-by-step guide\n🎥 Video walkthrough \n⚠️ Accessibility note: If you require accommodations or support to participate\, please contact us in advance. \nQuestions related to the event? Email mcimetta@wusa.ca \nStay in the loop—follow our socials and join our IG broadcast channel for exclusive event updates! \nDisclaimer: Photographers and videographers will record this event. Images and audio may be broadcast\, reproduced and/or made available in print publications\, online or on mobile devices\, and may form part of one or more audio-visual productions intended for initial release on the internet\, television and on home or mobile devices. By attending this event\, you are consenting to the use of your appearance\, image\, and voice in the production and in any promotion or use of the production in any media throughout the world. \nEvent is subject to change. Visit this page for the most up to date details.
URL:https://wusa.ca/event/annual-members-meeting/
LOCATION:SLC Great Hall\, 200 University Ave W\, SLC\, Waterloo\, Ontario\, N2L 3G1\, Canada
CATEGORIES:Annual Member's Meeting,Governance
ATTACH;FMTTYPE=image/png:https://wusa.ca/wp-content/uploads/2026/02/AGM_2025_Web-scaled.png
ORGANIZER;CN="Waterloo Undergraduate Student Association (WUSA)":MAILTO:events@wusa.ca
GEO:43.4716415;-80.5453385
X-APPLE-STRUCTURED-LOCATION;VALUE=URI;X-ADDRESS=SLC Great Hall 200 University Ave W SLC Waterloo Ontario N2L 3G1 Canada;X-APPLE-RADIUS=500;X-TITLE=200 University Ave W\, SLC:geo:-80.5453385,43.4716415
END:VEVENT
END:VCALENDAR