BEGIN:VCALENDAR
VERSION:2.0
PRODID:-//Waterloo Undergraduate Student Association - ECPv6.15.20//NONSGML v1.0//EN
CALSCALE:GREGORIAN
METHOD:PUBLISH
X-WR-CALNAME:Waterloo Undergraduate Student Association
X-ORIGINAL-URL:https://wusa.ca
X-WR-CALDESC:Events for Waterloo Undergraduate Student Association
REFRESH-INTERVAL;VALUE=DURATION:PT1H
X-Robots-Tag:noindex
X-PUBLISHED-TTL:PT1H
BEGIN:VTIMEZONE
TZID:America/Toronto
BEGIN:DAYLIGHT
TZOFFSETFROM:-0500
TZOFFSETTO:-0400
TZNAME:EDT
DTSTART:20250309T070000
END:DAYLIGHT
BEGIN:STANDARD
TZOFFSETFROM:-0400
TZOFFSETTO:-0500
TZNAME:EST
DTSTART:20251102T060000
END:STANDARD
BEGIN:DAYLIGHT
TZOFFSETFROM:-0500
TZOFFSETTO:-0400
TZNAME:EDT
DTSTART:20260308T070000
END:DAYLIGHT
BEGIN:STANDARD
TZOFFSETFROM:-0400
TZOFFSETTO:-0500
TZNAME:EST
DTSTART:20261101T060000
END:STANDARD
BEGIN:DAYLIGHT
TZOFFSETFROM:-0500
TZOFFSETTO:-0400
TZNAME:EDT
DTSTART:20270314T070000
END:DAYLIGHT
BEGIN:STANDARD
TZOFFSETFROM:-0400
TZOFFSETTO:-0500
TZNAME:EST
DTSTART:20271107T060000
END:STANDARD
END:VTIMEZONE
BEGIN:VEVENT
DTSTART;TZID=America/Toronto:20260511T100000
DTEND;TZID=America/Toronto:20260511T120000
DTSTAMP:20260421T071159
CREATED:20260417T154712Z
LAST-MODIFIED:20260417T154712Z
UID:10003961-1778493600-1778500800@wusa.ca
SUMMARY:Welcome Brunch
DESCRIPTION:We’re kicking off the new term with the Welcome Brunch — and YOU’RE invited! 🖤💛  \nJoin us for free delicious food\, great company\, and an exciting start to the semester!  \nSet the mood for the term with a vibe that feels effortless. Whether you’re back on campus or just settling in\, this brunch is the perfect way to reconnect\, recharge\, and ease into the new term. We’ve got halal and vegan options\, too.  \nBecause we know you’re wondering\, here’s what’s on the plate: eggs\, turkey sausage (halal)\, vegan sausage patties\, hashbrowns\, yogurt parfaits\, and drinks including coffee and juice.  \n📅 Monday\, May 11  \n🕙 10:00 AM – 12:00 PM (while supplies last)  \n📍 SLC Great Hall  \nExclusive to all Waterloo undergrads.  \nEvent Essentials:  \n\nWatCard required for entry \n\n  \nBy attending\, you’ll be entered for a chance to win the WUSA Ultimate Prize Pack — the perfect way to kick off your term with a bang!   \n  \nBrunch and friends? Mark your calendars and get ready for a fun\, filling\, and fabulous start to the semester!   \n⚠️ Accessibility: If you require any accommodation to fully participate in this event\, please reach out to us.  \nQuestions related to the event? Email events@wusa.ca  \nStay in the loop—follow our socials and join our IG broadcast channel for exclusive event updates!    \nDisclaimer: Photographers & videographers will record this event. Images and audio may be broadcast\, reproduced and/or made available in print publications\, online or on mobile devices\, and may form part of one or more audio-visual productions intended for initial release on the internet\, television and on home or mobile devices. By attending this event\, you are consenting to the use of your appearance\, image\, and voice in the production and in any promotion or use of the production in any media throughout the world.   \nEvent is subject to change. Visit this page for the most up to date details. 
URL:https://wusa.ca/event/welcome-brunch/
LOCATION:SLC Great Hall\, 200 University Ave W\, SLC\, Waterloo\, Ontario\, N2L 3G1\, Canada
CATEGORIES:Welcome Week
ATTACH;FMTTYPE=image/png:https://wusa.ca/wp-content/uploads/2026/04/WelcomeBrunch_DigitalWeb.png
ORGANIZER;CN="Waterloo Undergraduate Student Association (WUSA)":MAILTO:events@wusa.ca
GEO:43.4716415;-80.5453385
X-APPLE-STRUCTURED-LOCATION;VALUE=URI;X-ADDRESS=SLC Great Hall 200 University Ave W SLC Waterloo Ontario N2L 3G1 Canada;X-APPLE-RADIUS=500;X-TITLE=200 University Ave W\, SLC:geo:-80.5453385,43.4716415
END:VEVENT
BEGIN:VEVENT
DTSTART;TZID=America/Toronto:20260512T200000
DTEND;TZID=America/Toronto:20260512T230000
DTSTAMP:20260421T071159
CREATED:20260407T165856Z
LAST-MODIFIED:20260420T131818Z
UID:10003956-1778616000-1778626800@wusa.ca
SUMMARY:Sex Toy Bingo - All Ages
DESCRIPTION:Sex Toy Bingo is Back… and It’s Hotter Than Ever!  \nGet ready to turn up the heat with Sex Toy Bingo brought to you by Pink Cherry!  Join us on Tuesday\, May 12th at The Bomber for a bingo night with a spicy twist 😉.  \n\nSession 1: 7:00 – 8:30 PM (Doors open at 6:30 PM) \nSession 2: 9:30 – 11:00 PM (Doors open at 9:00 PM) \n\nRSVP valid until 20 minutes before each session’s start time. Walk-ins welcome after that\, first come first served. \nHosted by the fabulous Anne Tique Doll & Ultra Violet\, this isn’t your typical bingo — it’s going to be a night you’ll never forget!  \nPlay for a chance to win thrilling prizes\, create memories\, and just have a blast with your friends!  \nRSVPs open May 1st and close May 12th — or when spots are gone. Spots go fast.  \nRSVP’s will be released soon. Check back!  \n  🎁 BONUS ✨  \n \nOne lucky undergrad will win the WUSA Ultimate Prize Pack —just for showing up!  \n  \n  \n  \n  \nContent Notice:  Sex Toy Bingo is an 18+ event intended for mature audiences. As with all live events\, content is not scripted or controlled by WUSA. We always want to do our best to ensure our events are a welcoming and safe space for all students. If you have any concerns\, please reach out to us in advance at events@wusa.ca. \nEntry Requirements   \nThis event is exclusive to Waterloo undergraduate students who:  \n\nAre enrolled in Spring term courses or are on a work term/co-op\, and \nHave paid their Spring term fees. \n\nStudents who do not meet these requirements at check-in may be denied entry.  \nWatCard and physical government-issued ID are required. No photocopies or digital versions will be accepted.  \nAdditional Event Information  \n\nComplimentary pizza will be provided \nBeverages will be available for purchase (debit and credit only). \nOutside beverages are not permitted. \n\n⚠️ Accessibility note: If you require accommodations or support to participate\, please contact us in advance.  \nQuestions related to the event? Email events@wusa.ca  \nStay in the loop—follow our socials and join our IG broadcast channel for exclusive event updates!  \nDisclaimer: Photographers & videographers will record this event. Images and audio may be broadcast\, reproduced and/or made available in print publications\, online or on mobile devices\, and may form part of one or more audio-visual productions intended for initial release on the internet\, television and on home or mobile devices. By attending this event\, you are consenting to the use of your appearance\, image\, and voice in the production and in any promotion or use of the production in any media throughout the world.  \nEvent is subject to change. Visit this page for the most up to date details. 
URL:https://wusa.ca/event/sex-toy-bingo/
LOCATION:The Bomber\, Student Life Centre\, 200 University Ave W\,\, Waterloo\, ON\, N2L 3L3\, Canada
CATEGORIES:The Bomber,Welcome Week
ATTACH;FMTTYPE=image/png:https://wusa.ca/wp-content/uploads/2026/04/SexToyBingoWeb.png
ORGANIZER;CN="Waterloo Undergraduate Student Association (WUSA)":MAILTO:events@wusa.ca
GEO:43.4718576;-80.5454194
X-APPLE-STRUCTURED-LOCATION;VALUE=URI;X-ADDRESS=The Bomber Student Life Centre 200 University Ave W Waterloo ON N2L 3L3 Canada;X-APPLE-RADIUS=500;X-TITLE=Student Life Centre\, 200 University Ave W\,:geo:-80.5454194,43.4718576
END:VEVENT
BEGIN:VEVENT
DTSTART;TZID=America/Toronto:20260513T110000
DTEND;TZID=America/Toronto:20260513T140000
DTSTAMP:20260421T071159
CREATED:20260107T162736Z
LAST-MODIFIED:20260408T144219Z
UID:10003762-1778670000-1778680800@wusa.ca
SUMMARY:Campus Life Fair
DESCRIPTION:Make your university experience unforgettable!  \nJoin us at the Campus Life Fair for a chance to discover amazing resources\, connect with fellow students\, and snag some free swag! \nCampus Life Fair\nDate: May 13 | 11 AM – 2 PM\nLocation: SLC Great Hall  \nWhether you’re a first-year or nearing graduation\, there’s something for everyone to help you succeed in school and beyond.  \nWhat’s in it for you?  \n\nAccess all the campus resources you didn’t know you needed \nScore free swag & exclusive giveaways \nMeet the people here to support your journey \nSweet treat for the first 500 attendees! While supplies last — WatCard is required to claim a treat. Exclusive to Waterloo undergrads only\n\n🎁 BONUS ✨  \n \nOne lucky undergrad will win the WUSA Ultimate Prize Pack—just for showing up!   \n  \n  \n  \nMark your calendars\, bring your friends\, and let’s level up your campus experience!  \n⚠️ Accessibility: If you require any accommodation to fully participate in this event\, please reach out to us. \nStay in the loop—follow our socials and join our IG broadcast channel for exclusive event updates!  \nQuestions related to the event? Email events@wusa.ca  \nDisclaimer: Photographers & videographers will record this event. Images and audio may be broadcast\, reproduced and/or made available in print publications\, online or on mobile devices\, and may form part of one or more audio-visual productions intended for initial release on the internet\, television and on home or mobile devices. By attending this event\, you are consenting to the use of your appearance\, image\, and voice in the production and in any promotion or use of the production in any media throughout the world.   \nEvent is subject to change. Visit this page for the most up to date details. 
URL:https://wusa.ca/event/campus-life-fair/
LOCATION:SLC Great Hall\, 200 University Ave W\, SLC\, Waterloo\, Ontario\, N2L 3G1\, Canada
CATEGORIES:Welcome Week
ATTACH;FMTTYPE=image/png:https://wusa.ca/wp-content/uploads/2026/01/S26-Campus-Life-Fair_Web-scaled.png
ORGANIZER;CN="Waterloo Undergraduate Student Association (WUSA)":MAILTO:events@wusa.ca
GEO:43.4716415;-80.5453385
X-APPLE-STRUCTURED-LOCATION;VALUE=URI;X-ADDRESS=SLC Great Hall 200 University Ave W SLC Waterloo Ontario N2L 3G1 Canada;X-APPLE-RADIUS=500;X-TITLE=200 University Ave W\, SLC:geo:-80.5453385,43.4716415
END:VEVENT
BEGIN:VEVENT
DTSTART;TZID=America/Toronto:20260513T190000
DTEND;TZID=America/Toronto:20260513T220000
DTSTAMP:20260421T071159
CREATED:20260420T134542Z
LAST-MODIFIED:20260420T140947Z
UID:10003963-1778698800-1778709600@wusa.ca
SUMMARY:Comedy Night
DESCRIPTION:Welcome Week needed a midweek moment. Here it is.  \nComedy Night is making its Welcome Week debut! There’s no better way to break the ice than a room full of people laughing together.  \nOpener Renee Groux gets the crowd going\, then headliner Ola Dada takes it home. One night. Come meet your people.  \n🎁 Show up for a chance to win the WUSA Ultimate Prize Pack!  \n🥤 Refreshments will be available while supplies last.  \nAbout the Performers  \nOla Dada  \nOla Dada is a Nigerian Canadian comedian whose special Unlimited Dada is streaming on Amazon Prime and Apple TV. He’s headlined Just for Laughs\, hosted the 2025 JUNO Awards comedy showcase\, and was a semi-finalist on Canada’s Got Talent. Known for sharp\, heartfelt storytelling rooted in his Nigerian upbringing and Canadian experience — this is an intimate show from one of Canada’s most exciting comedic voices. The kind you’ll be telling people you went to.  \n  \n  \nRenee Groux  \nRenee Groux is a stand-up comedian in Kitchener-Waterloo. She has appeared on Don’t Tell Comedy\, Guelph Comedy Festival\, and the 2022 Edinburgh Fringe Festival. She is also the co-producer and host of Fever Dream Comedy\, running Kitchener’s longest-running all-women showcase\, Girl Night. Her debut comedy album\, “We’re Not Friends” can be heard on SiriusXM – watch the full special on YouTube.  \n  \nContent Notice As with all live performances\, comedic content is not scripted or controlled by WUSA. We always want to do our best to ensure our events are a welcoming and safe space for all students. If you have concerns\, please reach out to us in advance at events@wusa.ca.  \nRSVP  \nRSVPs open May 1st — grab your spot before they’re gone. Limited spots available at the door\, first come first served.  \nEntry Requirements  \nThis event is exclusive to Waterloo undergraduate students who:  \n\nAre enrolled in Spring term courses or are on a work term/co-op\, and \nHave paid their Spring term fees. \n\nStudents who do not meet these requirements at check-in may be denied entry. Please bring your WatCard. This is an all-ages event.  \n⚠️ Accessibility note: If you require accommodations or support to participate\, please contact us in advance.  \nQuestions about the event? Email events@wusa.ca  \nStay in the loop — follow our socials and join our IG broadcast channel for exclusive event updates!  \nDisclaimer: Photographers & videographers will record this event. Images and audio may be broadcast\, reproduced and/or made available in print publications\, online or on mobile devices\, and may form part of one or more audio-visual productions intended for initial release on the internet\, television and on home or mobile devices. By attending this event\, you are consenting to the use of your appearance\, image\, and voice in the production and in any promotion or use of the production in any media thoughout the world.  \nEvent is subject to change. Visit this page for the most up to date details.  \n 
URL:https://wusa.ca/event/comedy-night/
LOCATION:The Bomber\, Student Life Centre\, 200 University Ave W\,\, Waterloo\, ON\, N2L 3L3\, Canada
CATEGORIES:The Bomber,Welcome Week
ATTACH;FMTTYPE=image/png:https://wusa.ca/wp-content/uploads/2026/04/Comedy-Night_Web.png
ORGANIZER;CN="Waterloo Undergraduate Student Association (WUSA)":MAILTO:events@wusa.ca
GEO:43.4718576;-80.5454194
X-APPLE-STRUCTURED-LOCATION;VALUE=URI;X-ADDRESS=The Bomber Student Life Centre 200 University Ave W Waterloo ON N2L 3L3 Canada;X-APPLE-RADIUS=500;X-TITLE=Student Life Centre\, 200 University Ave W\,:geo:-80.5454194,43.4718576
END:VEVENT
BEGIN:VEVENT
DTSTART;TZID=America/Toronto:20260514T110000
DTEND;TZID=America/Toronto:20260514T150000
DTSTAMP:20260421T071159
CREATED:20260107T165549Z
LAST-MODIFIED:20260409T134053Z
UID:10003763-1778756400-1778770800@wusa.ca
SUMMARY:Clubs & Societies Fair
DESCRIPTION:Find Your Community at the Clubs & Societies Fair!  \nLooking to meet fellow Waterloo students\, explore your passions\, or learn new skills? The Clubs & Societies Fair is your chance to explore 200+ clubs and find your community.  \nDates: May 14 (11AM – 3PM) & May 15 (11AM – 2PM)\nLocation: Student Life Centre\nDrop in anytime—stay as long as you like!  \nFrom culture\, music\, and sports to gaming\, volunteering\, and more\, there’s a club for everyone. Whether you’re into Cheese Club\, DJ Club\, SMILE (Students for Mental Health and Inner Life Enrichment)\, AfroXDance\, or something entirely new\, WUSA clubs offer a fun way to make friends\, explore interests\, and take a break from your academic routine.  \nVisit the WUSA booth for exclusive swag — first come\, first served. While supplies last. \nCurious about the full list of clubs? Check them out here: WUSA Clubs Directory  \nAccessibility note: The fair is busy and loud\, so be prepared for a lively crowd.  \n🎁 BONUS ✨  \n \nOne lucky undergrad will win the WUSA Ultimate Prize Pack—just for showing up!  \n  \n  \n  \nYour next adventure awaits—come see what sparks your interest!  \nQuestions related to the event? Email clubs.manager@wusa.ca \nStay in the loop—follow our socials and join our IG broadcast channel for exclusive event updates! \nDisclaimer: Photographers & videographers will record this event. Images and audio may be broadcast\, reproduced and/or made available in print publications\, online or on mobile devices\, and may form part of one or more audio-visual productions intended for initial release on the internet\, television and on home or mobile devices. By attending this event\, you are consenting to the use of your appearance\, image\, and voice in the production and in any promotion or use of the production in any media throughout the world. \nEvent is subject to change. Visit this page for the most up to date details.
URL:https://wusa.ca/event/clubs-societies-fair/
LOCATION:SLC Great Hall\, 200 University Ave W\, SLC\, Waterloo\, Ontario\, N2L 3G1\, Canada
CATEGORIES:Clubs Events,Welcome Week
ATTACH;FMTTYPE=image/png:https://wusa.ca/wp-content/uploads/2026/01/Clubs_Spring26_Web.png
ORGANIZER;CN="Waterloo Undergraduate Student Association (WUSA)":MAILTO:events@wusa.ca
GEO:43.4716415;-80.5453385
X-APPLE-STRUCTURED-LOCATION;VALUE=URI;X-ADDRESS=SLC Great Hall 200 University Ave W SLC Waterloo Ontario N2L 3G1 Canada;X-APPLE-RADIUS=500;X-TITLE=200 University Ave W\, SLC:geo:-80.5453385,43.4716415
END:VEVENT
BEGIN:VEVENT
DTSTART;TZID=America/Toronto:20260514T170000
DTEND;TZID=America/Toronto:20260514T230000
DTSTAMP:20260421T071159
CREATED:20260420T170410Z
LAST-MODIFIED:20260420T171426Z
UID:10003965-1778778000-1778799600@wusa.ca
SUMMARY:Summer Fest
DESCRIPTION:boots optional but good times are not. Your spring term starts with this one unforgettable night.  \n🎁 Show up for a chance to win the WUSA Ultimate Prize Pack!  \nThe SLC Green is about to look very different on May 14th. There’s a stage\, a crowd\, line-dacing\, hot dogs and more! \nJessie T kicks things off with a live set — think country anthems mixed with the hits you actually know. By 6 pm\, the Bomber Patio is serving up free hot dogs\, halal burgers\, veggie burgers and salad.  \nWhen the sun dips\, the green lights up. LED lawn games are glowing\, the swings are a whole vibe\, and photo ops. You won’t want to miss this.  At 8 pm\, DJ Tumbleweed takes over and Nicole leads line dancing lessons. Never done it before? That’s literally the point. No experience needed\, just show up.  \nSpring term just got its first W. Come for an hour. Stay for three. Either way\, you’ll be talking about it all summer!  \nHow the night unfolds  \n5:00 – 8:00 pm — Jessie T (live music)  \n6:00 pm onwards — Free food\, while supplies last (The Bomber Patio)  \n8:00 – 11:00 pm — DJ Tumbleweed (DJ set)  \n8:00 – 9:30 pm — Line dancing with Nicole (all levels welcome)   \nFree to attend. Bring your friends. Your people are waiting.  \nRSVP   \nRSVPs open May 1st — grab your spot before they’re gone. Spots available at the door\, first come first served. \nEntry requirements  \nThis event is exclusive to Waterloo undergraduate students who:  \n\nAre enrolled in Spring term courses or are on a work term/co-op\, and \nHave paid their Spring term fees. \n\nStudents who do not meet these requirements at check-in may be denied entry. Please bring your WatCard.  \nStay in the loop — follow our socials and join our IG broadcast channel for exclusive event updates!  \n⚠️ Accessibility note: This event takes place outdoors on grass and green space\, and includes loud amplified music\, large crowds\, and bright/flashing LED lighting throughout the evening. If you require accommodation or support to participate\, please reach out to us in advance at events@wusa.ca.  \nQuestions about the event? Email events@wusa.ca  \nDisclaimer: Photographers & videographers will record this event. Images and audio may be broadcast\, reproduced and/or made available in print publications\, online or on mobile devices\, and may form part of one or more audio-visual productions intended for initial release on the internet\, television and on home or mobile devices. By attending this event\, you are consenting to the use of your appearance\, image\, and voice in the production and in any promotion or use of the production in any media throughout the world.  \nEvent is subject to change. Visit this page for the most up to date details. 
URL:https://wusa.ca/event/summer-fest/
LOCATION:SLC Green\, 200 University Ave W\, Waterloo\, ON\, N2L 3L3\, Canada
CATEGORIES:Welcome Week
ATTACH;FMTTYPE=image/png:https://wusa.ca/wp-content/uploads/2026/04/Summerfest_Web.png
ORGANIZER;CN="Waterloo Undergraduate Student Association (WUSA)":MAILTO:events@wusa.ca
GEO:43.4729399;-80.5400716
X-APPLE-STRUCTURED-LOCATION;VALUE=URI;X-ADDRESS=SLC Green 200 University Ave W Waterloo ON N2L 3L3 Canada;X-APPLE-RADIUS=500;X-TITLE=200 University Ave W:geo:-80.5400716,43.4729399
END:VEVENT
BEGIN:VEVENT
DTSTART;TZID=America/Toronto:20260515T110000
DTEND;TZID=America/Toronto:20260515T140000
DTSTAMP:20260421T071159
CREATED:20260107T170624Z
LAST-MODIFIED:20260409T134250Z
UID:10003764-1778842800-1778853600@wusa.ca
SUMMARY:Clubs & Societies Fair
DESCRIPTION:Find Your Community at the Clubs & Societies Fair!  \nLooking to meet fellow Waterloo students\, explore your passions\, or learn new skills? The Clubs & Societies Fair is your chance to explore 200+ clubs and find your community.  \nDates: May 14 (11AM – 3PM) & May 15 (11AM – 2PM)\nLocation: Student Life Centre\nDrop in anytime—stay as long as you like!  \nFrom culture\, music\, and sports to gaming\, volunteering\, and more\, there’s a club for everyone. Whether you’re into Cheese Club\, DJ Club\, SMILE (Students for Mental Health and Inner Life Enrichment)\, AfroXDance\, or something entirely new\, WUSA clubs offer a fun way to make friends\, explore interests\, and take a break from your academic routine.  \nVisit the WUSA booth for exclusive swag — first come\, first served. While supplies last. \nCurious about the full list of clubs? Check them out here: WUSA Clubs Directory  \nAccessibility note: The fair is busy and loud\, so be prepared for a lively crowd.  \n🎁 BONUS ✨  \n \nOne lucky undergrad will win the WUSA Ultimate Prize Pack—just for showing up!  \n  \n  \n  \nYour next adventure awaits—come see what sparks your interest!  \nQuestions related to the event? Email clubs.manager@wusa.ca \nStay in the loop—follow our socials and join our IG broadcast channel for exclusive event updates! \nDisclaimer: Photographers & videographers will record this event. Images and audio may be broadcast\, reproduced and/or made available in print publications\, online or on mobile devices\, and may form part of one or more audio-visual productions intended for initial release on the internet\, television and on home or mobile devices. By attending this event\, you are consenting to the use of your appearance\, image\, and voice in the production and in any promotion or use of the production in any media throughout the world. \nEvent is subject to change. Visit this page for the most up to date details.
URL:https://wusa.ca/event/clubs-societies-fair-2/
LOCATION:SLC Great Hall\, 200 University Ave W\, SLC\, Waterloo\, Ontario\, N2L 3G1\, Canada
CATEGORIES:Clubs Events,Welcome Week
ATTACH;FMTTYPE=image/png:https://wusa.ca/wp-content/uploads/2026/01/Clubs_Spring26_Web-1.png
ORGANIZER;CN="Waterloo Undergraduate Student Association (WUSA)":MAILTO:events@wusa.ca
GEO:43.4716415;-80.5453385
X-APPLE-STRUCTURED-LOCATION;VALUE=URI;X-ADDRESS=SLC Great Hall 200 University Ave W SLC Waterloo Ontario N2L 3G1 Canada;X-APPLE-RADIUS=500;X-TITLE=200 University Ave W\, SLC:geo:-80.5453385,43.4716415
END:VEVENT
END:VCALENDAR