BEGIN:VCALENDAR
VERSION:2.0
PRODID:-//Waterloo Undergraduate Student Association - ECPv6.15.20//NONSGML v1.0//EN
CALSCALE:GREGORIAN
METHOD:PUBLISH
X-ORIGINAL-URL:https://wusa.ca
X-WR-CALDESC:Events for Waterloo Undergraduate Student Association
REFRESH-INTERVAL;VALUE=DURATION:PT1H
X-Robots-Tag:noindex
X-PUBLISHED-TTL:PT1H
BEGIN:VTIMEZONE
TZID:America/Toronto
BEGIN:DAYLIGHT
TZOFFSETFROM:-0500
TZOFFSETTO:-0400
TZNAME:EDT
DTSTART:20250309T070000
END:DAYLIGHT
BEGIN:STANDARD
TZOFFSETFROM:-0400
TZOFFSETTO:-0500
TZNAME:EST
DTSTART:20251102T060000
END:STANDARD
BEGIN:DAYLIGHT
TZOFFSETFROM:-0500
TZOFFSETTO:-0400
TZNAME:EDT
DTSTART:20260308T070000
END:DAYLIGHT
BEGIN:STANDARD
TZOFFSETFROM:-0400
TZOFFSETTO:-0500
TZNAME:EST
DTSTART:20261101T060000
END:STANDARD
BEGIN:DAYLIGHT
TZOFFSETFROM:-0500
TZOFFSETTO:-0400
TZNAME:EDT
DTSTART:20270314T070000
END:DAYLIGHT
BEGIN:STANDARD
TZOFFSETFROM:-0400
TZOFFSETTO:-0500
TZNAME:EST
DTSTART:20271107T060000
END:STANDARD
END:VTIMEZONE
BEGIN:VEVENT
DTSTART;TZID=America/Toronto:20260514T170000
DTEND;TZID=America/Toronto:20260514T230000
DTSTAMP:20260421T111948
CREATED:20260420T170410Z
LAST-MODIFIED:20260420T171426Z
UID:10003965-1778778000-1778799600@wusa.ca
SUMMARY:Summer Fest
DESCRIPTION:boots optional but good times are not. Your spring term starts with this one unforgettable night.  \n🎁 Show up for a chance to win the WUSA Ultimate Prize Pack!  \nThe SLC Green is about to look very different on May 14th. There’s a stage\, a crowd\, line-dacing\, hot dogs and more! \nJessie T kicks things off with a live set — think country anthems mixed with the hits you actually know. By 6 pm\, the Bomber Patio is serving up free hot dogs\, halal burgers\, veggie burgers and salad.  \nWhen the sun dips\, the green lights up. LED lawn games are glowing\, the swings are a whole vibe\, and photo ops. You won’t want to miss this.  At 8 pm\, DJ Tumbleweed takes over and Nicole leads line dancing lessons. Never done it before? That’s literally the point. No experience needed\, just show up.  \nSpring term just got its first W. Come for an hour. Stay for three. Either way\, you’ll be talking about it all summer!  \nHow the night unfolds  \n5:00 – 8:00 pm — Jessie T (live music)  \n6:00 pm onwards — Free food\, while supplies last (The Bomber Patio)  \n8:00 – 11:00 pm — DJ Tumbleweed (DJ set)  \n8:00 – 9:30 pm — Line dancing with Nicole (all levels welcome)   \nFree to attend. Bring your friends. Your people are waiting.  \nRSVP   \nRSVPs open May 1st — grab your spot before they’re gone. Spots available at the door\, first come first served. \nEntry requirements  \nThis event is exclusive to Waterloo undergraduate students who:  \n\nAre enrolled in Spring term courses or are on a work term/co-op\, and \nHave paid their Spring term fees. \n\nStudents who do not meet these requirements at check-in may be denied entry. Please bring your WatCard.  \nStay in the loop — follow our socials and join our IG broadcast channel for exclusive event updates!  \n⚠️ Accessibility note: This event takes place outdoors on grass and green space\, and includes loud amplified music\, large crowds\, and bright/flashing LED lighting throughout the evening. If you require accommodation or support to participate\, please reach out to us in advance at events@wusa.ca.  \nQuestions about the event? Email events@wusa.ca  \nDisclaimer: Photographers & videographers will record this event. Images and audio may be broadcast\, reproduced and/or made available in print publications\, online or on mobile devices\, and may form part of one or more audio-visual productions intended for initial release on the internet\, television and on home or mobile devices. By attending this event\, you are consenting to the use of your appearance\, image\, and voice in the production and in any promotion or use of the production in any media throughout the world.  \nEvent is subject to change. Visit this page for the most up to date details. 
URL:https://wusa.ca/event/summer-fest/
LOCATION:SLC Green\, 200 University Ave W\, Waterloo\, ON\, N2L 3L3\, Canada
CATEGORIES:Welcome Week
ATTACH;FMTTYPE=image/png:https://wusa.ca/wp-content/uploads/2026/04/Summerfest_Web.png
ORGANIZER;CN="Waterloo Undergraduate Student Association (WUSA)":MAILTO:events@wusa.ca
GEO:43.4729399;-80.5400716
X-APPLE-STRUCTURED-LOCATION;VALUE=URI;X-ADDRESS=SLC Green 200 University Ave W Waterloo ON N2L 3L3 Canada;X-APPLE-RADIUS=500;X-TITLE=200 University Ave W:geo:-80.5400716,43.4729399
END:VEVENT
END:VCALENDAR