BEGIN:VCALENDAR
VERSION:2.0
PRODID:-//Waterloo Undergraduate Student Association - ECPv6.15.20//NONSGML v1.0//EN
CALSCALE:GREGORIAN
METHOD:PUBLISH
X-WR-CALNAME:Waterloo Undergraduate Student Association
X-ORIGINAL-URL:https://wusa.ca
X-WR-CALDESC:Events for Waterloo Undergraduate Student Association
REFRESH-INTERVAL;VALUE=DURATION:PT1H
X-Robots-Tag:noindex
X-PUBLISHED-TTL:PT1H
BEGIN:VTIMEZONE
TZID:America/Toronto
BEGIN:DAYLIGHT
TZOFFSETFROM:-0500
TZOFFSETTO:-0400
TZNAME:EDT
DTSTART:20250309T070000
END:DAYLIGHT
BEGIN:STANDARD
TZOFFSETFROM:-0400
TZOFFSETTO:-0500
TZNAME:EST
DTSTART:20251102T060000
END:STANDARD
BEGIN:DAYLIGHT
TZOFFSETFROM:-0500
TZOFFSETTO:-0400
TZNAME:EDT
DTSTART:20260308T070000
END:DAYLIGHT
BEGIN:STANDARD
TZOFFSETFROM:-0400
TZOFFSETTO:-0500
TZNAME:EST
DTSTART:20261101T060000
END:STANDARD
BEGIN:DAYLIGHT
TZOFFSETFROM:-0500
TZOFFSETTO:-0400
TZNAME:EDT
DTSTART:20270314T070000
END:DAYLIGHT
BEGIN:STANDARD
TZOFFSETFROM:-0400
TZOFFSETTO:-0500
TZNAME:EST
DTSTART:20271107T060000
END:STANDARD
END:VTIMEZONE
BEGIN:VEVENT
DTSTART;TZID=America/Toronto:20260512T200000
DTEND;TZID=America/Toronto:20260512T230000
DTSTAMP:20260421T111841
CREATED:20260407T165856Z
LAST-MODIFIED:20260421T131724Z
UID:10003956-1778616000-1778626800@wusa.ca
SUMMARY:Sex Toy Bingo - All Ages
DESCRIPTION:Sex Toy Bingo is Back… and It’s Hotter Than Ever!  \nGet ready to turn up the heat with Sex Toy Bingo brought to you by Pink Cherry!  Join us on Tuesday\, May 12th at The Bomber for a bingo night with a spicy twist 😉.  \n\nSession 1: 7:00 – 8:30 PM (Doors open at 6:30 PM) \nSession 2: 9:30 – 11:00 PM (Doors open at 9:00 PM) \n\nRSVP valid until 20 minutes before each session’s start time. Walk-ins welcome after that\, first come first served. \nHosted by the fabulous Anne Tique Doll & Ultra Violet\, this isn’t your typical bingo — it’s going to be a night you’ll never forget!  \nPlay for a chance to win thrilling prizes\, create memories\, and just have a blast with your friends!  \nRSVPs open May 1st and close May 12th — or when spots are gone. Spots go fast.  \nRSVP’s will be released soon. Check back!  \n  🎁 BONUS ✨  \n \nOne lucky undergrad will win the WUSA Ultimate Prize Pack —just for showing up!  \n  \n  \n  \n  \nContent Notice:  Sex Toy Bingo is an 18+ event intended for mature audiences. As with all live events\, content is not scripted or controlled by WUSA. We always want to do our best to ensure our events are a welcoming and safe space for all students. If you have any concerns\, please reach out to us in advance at events@wusa.ca. \nEntry Requirements   \nThis event is exclusive to Waterloo undergraduate students who:  \n\nAre enrolled in Spring term courses or are on a work term/co-op\, and \nHave paid their Spring term fees. \n\nStudents who do not meet these requirements at check-in may be denied entry.  \nWatCard and physical government-issued ID are required. No photocopies or digital versions will be accepted.  \nAdditional Event Information  \n\nComplimentary pizza will be provided \nBeverages will be available for purchase (debit and credit only). \nOutside beverages are not permitted. \n\n⚠️ Accessibility note: If you require accommodations or support to participate\, please contact us in advance.  \nQuestions related to the event? Email events@wusa.ca  \nStay in the loop—follow our socials and join our IG broadcast channel for exclusive event updates!  \nDisclaimer: Photographers & videographers will record this event. Images and audio may be broadcast\, reproduced and/or made available in print publications\, online or on mobile devices\, and may form part of one or more audio-visual productions intended for initial release on the internet\, television and on home or mobile devices. By attending this event\, you are consenting to the use of your appearance\, image\, and voice in the production and in any promotion or use of the production in any media throughout the world.  \nEvent is subject to change. Visit this page for the most up to date details. 
URL:https://wusa.ca/event/sex-toy-bingo/
LOCATION:The Bomber\, Student Life Centre\, 200 University Ave W\,\, Waterloo\, ON\, N2L 3L3\, Canada
CATEGORIES:The Bomber,Welcome Week
ATTACH;FMTTYPE=image/png:https://wusa.ca/wp-content/uploads/2026/04/SexToyBingoWeb.png
ORGANIZER;CN="Waterloo Undergraduate Student Association (WUSA)":MAILTO:events@wusa.ca
GEO:43.4718576;-80.5454194
X-APPLE-STRUCTURED-LOCATION;VALUE=URI;X-ADDRESS=The Bomber Student Life Centre 200 University Ave W Waterloo ON N2L 3L3 Canada;X-APPLE-RADIUS=500;X-TITLE=Student Life Centre\, 200 University Ave W\,:geo:-80.5454194,43.4718576
END:VEVENT
END:VCALENDAR