BEGIN:VCALENDAR
VERSION:2.0
PRODID:-//Waterloo Undergraduate Student Association - ECPv6.15.20//NONSGML v1.0//EN
CALSCALE:GREGORIAN
METHOD:PUBLISH
X-ORIGINAL-URL:https://wusa.ca
X-WR-CALDESC:Events for Waterloo Undergraduate Student Association
REFRESH-INTERVAL;VALUE=DURATION:PT1H
X-Robots-Tag:noindex
X-PUBLISHED-TTL:PT1H
BEGIN:VTIMEZONE
TZID:America/Toronto
BEGIN:DAYLIGHT
TZOFFSETFROM:-0500
TZOFFSETTO:-0400
TZNAME:EDT
DTSTART:20250309T070000
END:DAYLIGHT
BEGIN:STANDARD
TZOFFSETFROM:-0400
TZOFFSETTO:-0500
TZNAME:EST
DTSTART:20251102T060000
END:STANDARD
BEGIN:DAYLIGHT
TZOFFSETFROM:-0500
TZOFFSETTO:-0400
TZNAME:EDT
DTSTART:20260308T070000
END:DAYLIGHT
BEGIN:STANDARD
TZOFFSETFROM:-0400
TZOFFSETTO:-0500
TZNAME:EST
DTSTART:20261101T060000
END:STANDARD
BEGIN:DAYLIGHT
TZOFFSETFROM:-0500
TZOFFSETTO:-0400
TZNAME:EDT
DTSTART:20270314T070000
END:DAYLIGHT
BEGIN:STANDARD
TZOFFSETFROM:-0400
TZOFFSETTO:-0500
TZNAME:EST
DTSTART:20271107T060000
END:STANDARD
END:VTIMEZONE
BEGIN:VEVENT
DTSTART;TZID=America/Toronto:20260321T173000
DTEND;TZID=America/Toronto:20260322T010000
DTSTAMP:20260421T064207
CREATED:20260226T183522Z
LAST-MODIFIED:20260317T190209Z
UID:10003905-1774114200-1774141200@wusa.ca
SUMMARY:Math Grad Ball
DESCRIPTION:Content is protected.
URL:https://wusa.ca/event/math-grad-ball/
LOCATION:Federation Hall\, 200 University Ave W\, SLC 1116\, Waterloo\, Ontario\, N2L 3G1\, Canada
CATEGORIES:MathSoc
ORGANIZER;CN="Mathematics Graduation Committee":MAILTO:mgc@mathsoc.uwaterloo.ca
GEO:43.4716415;-80.5453385
X-APPLE-STRUCTURED-LOCATION;VALUE=URI;X-ADDRESS=Federation Hall 200 University Ave W SLC 1116 Waterloo Ontario N2L 3G1 Canada;X-APPLE-RADIUS=500;X-TITLE=200 University Ave W\, SLC 1116:geo:-80.5453385,43.4716415
END:VEVENT
END:VCALENDAR