BEGIN:VCALENDAR
VERSION:2.0
PRODID:-//Waterloo Undergraduate Student Association - ECPv6.15.20//NONSGML v1.0//EN
CALSCALE:GREGORIAN
METHOD:PUBLISH
X-WR-CALNAME:Waterloo Undergraduate Student Association
X-ORIGINAL-URL:https://wusa.ca
X-WR-CALDESC:Events for Waterloo Undergraduate Student Association
REFRESH-INTERVAL;VALUE=DURATION:PT1H
X-Robots-Tag:noindex
X-PUBLISHED-TTL:PT1H
BEGIN:VTIMEZONE
TZID:America/Toronto
BEGIN:DAYLIGHT
TZOFFSETFROM:-0500
TZOFFSETTO:-0400
TZNAME:EDT
DTSTART:20250309T070000
END:DAYLIGHT
BEGIN:STANDARD
TZOFFSETFROM:-0400
TZOFFSETTO:-0500
TZNAME:EST
DTSTART:20251102T060000
END:STANDARD
BEGIN:DAYLIGHT
TZOFFSETFROM:-0500
TZOFFSETTO:-0400
TZNAME:EDT
DTSTART:20260308T070000
END:DAYLIGHT
BEGIN:STANDARD
TZOFFSETFROM:-0400
TZOFFSETTO:-0500
TZNAME:EST
DTSTART:20261101T060000
END:STANDARD
BEGIN:DAYLIGHT
TZOFFSETFROM:-0500
TZOFFSETTO:-0400
TZNAME:EDT
DTSTART:20270314T070000
END:DAYLIGHT
BEGIN:STANDARD
TZOFFSETFROM:-0400
TZOFFSETTO:-0500
TZNAME:EST
DTSTART:20271107T060000
END:STANDARD
END:VTIMEZONE
BEGIN:VEVENT
DTSTART;TZID=America/Toronto:20260320T190000
DTEND;TZID=America/Toronto:20260320T220000
DTSTAMP:20260421T052946
CREATED:20260218T000721Z
LAST-MODIFIED:20260319T193155Z
UID:10003861-1774033200-1774044000@wusa.ca
SUMMARY:Glow's Lavender Ball
DESCRIPTION:Missed out on prom? Want to do it all over again—your way? Lavender Ball is Glow’s celebration where you can shine\, dance\, and be you! This year’s theme? Starry Night!  \nWhen: Friday\, March 20\, 2026 | 7:00 PM – 10:00 PM\nWhere: SLC Black & Gold\nWho: Open to all University of Waterloo undergraduate students (plus up to 1 guest per ticket)  \n🎶 Music\n🍴 Complimentary food & drinks\n✨ Free all-ages celebration\n🤝 Meet new friends and connect over good vibes  \nTickets are limited – Reserve your spot below. \n✨ Come as you are. Shine\, move\, and be you!  \n🕔 RSVPs open Tuesday\, Feb 17 at 4 PM and close Friday\, March 20 at 7:30 PM\, or once spots are full. A few spots will be available at the door—arrive early to grab one! \n⚠️ Accessibility note: If you require accommodations or support to participate\, please contact us in advance.   \nQuestions related to the event? Email glow@wusa.ca  \nEvent is subject to change. Visit this page for the most up to date details. 
URL:https://wusa.ca/event/lavender-ball/
CATEGORIES:Glow Centre
ATTACH;FMTTYPE=image/png:https://wusa.ca/wp-content/uploads/2026/02/Lavender-Ball_Web.png
END:VEVENT
BEGIN:VEVENT
DTSTART;TZID=America/Toronto:20260326T190000
DTEND;TZID=America/Toronto:20260326T220000
DTSTAMP:20260421T052946
CREATED:20260129T154640Z
LAST-MODIFIED:20260304T165813Z
UID:10003819-1774551600-1774562400@wusa.ca
SUMMARY:Movie Night
DESCRIPTION:Need a Thursday night break? Come hang at GLOW’s Movie Night for a chill\, drop-in movie night with snacks and good company. \nWe watch a different movie each month — we post the pick on socials\, and you can vote on what we watch next. No registration needed — just show up\, grab a snack\, and vibe. \n📍 Glow Centre (SLC 3103)🕖 7–10 PM🗓️ Mar 26\, 2026 \nFree event — come chill and vibe with us!🎬✨ \n⚠️ Accessibility note: If you require accommodations or support to participate\, please contact us in advance.  \nQuestions related to the event? Email glow@wusa.ca \nEvent is subject to change. Visit this page for the most up to date details. 
URL:https://wusa.ca/event/movie-night/
CATEGORIES:Glow Centre
ATTACH;FMTTYPE=image/png:https://wusa.ca/wp-content/uploads/2024/10/Glow_Music-and-Movie-Night_Web-1.png
END:VEVENT
BEGIN:VEVENT
DTSTART;TZID=America/Toronto:20260330T190000
DTEND;TZID=America/Toronto:20260330T220000
DTSTAMP:20260421T052946
CREATED:20260129T145541Z
LAST-MODIFIED:20260304T170635Z
UID:10003817-1774897200-1774908000@wusa.ca
SUMMARY:Monday Funday
DESCRIPTION:Got nothing going on Monday night? Come hang at GLOW’s Monday Funday 🌈 \nIt’s a chill\, once-a-month social night where you can meet people and just chill after a long day of classes. \nDrop in with friends\, come solo\, craft a bit\, chat a bit\, or just sit and vibe. It’s meant to be cozy\, low-stress\, and welcoming to all. \n🌈 March 30: Clothing Swap!\nWe’re collecting gently used clothing — bring something you’re ready to pass on. Everyone who donates will receive a ticket to trade for an item. ♻️✨Refresh your wardrobe\, reduce waste\, and connect with community. \n📍 Glow Centre (SLC 3103)🕖 7–10 PM🗓️ First Monday of each month – Jan 19 – Apr 6\, 2026 \nDrop by and chill with us 🌈🫶 \n ⚠️ Accessibility note: If you require accommodations or support to participate\, please contact us in advance.  \nQuestions related to the event? Email internal.glow@wusa.ca  \nEvent is subject to change. Visit this page for the most up to date details. 
URL:https://wusa.ca/event/monday-funday/
CATEGORIES:Glow Centre
ATTACH;FMTTYPE=image/png:https://wusa.ca/wp-content/uploads/2026/01/MondayFunday_Web-scaled.png
END:VEVENT
END:VCALENDAR