BEGIN:VCALENDAR
VERSION:2.0
PRODID:-//Waterloo Undergraduate Student Association - ECPv6.15.20//NONSGML v1.0//EN
CALSCALE:GREGORIAN
METHOD:PUBLISH
X-WR-CALNAME:Waterloo Undergraduate Student Association
X-ORIGINAL-URL:https://wusa.ca
X-WR-CALDESC:Events for Waterloo Undergraduate Student Association
REFRESH-INTERVAL;VALUE=DURATION:PT1H
X-Robots-Tag:noindex
X-PUBLISHED-TTL:PT1H
BEGIN:VTIMEZONE
TZID:America/Toronto
BEGIN:DAYLIGHT
TZOFFSETFROM:-0500
TZOFFSETTO:-0400
TZNAME:EDT
DTSTART:20250309T070000
END:DAYLIGHT
BEGIN:STANDARD
TZOFFSETFROM:-0400
TZOFFSETTO:-0500
TZNAME:EST
DTSTART:20251102T060000
END:STANDARD
BEGIN:DAYLIGHT
TZOFFSETFROM:-0500
TZOFFSETTO:-0400
TZNAME:EDT
DTSTART:20260308T070000
END:DAYLIGHT
BEGIN:STANDARD
TZOFFSETFROM:-0400
TZOFFSETTO:-0500
TZNAME:EST
DTSTART:20261101T060000
END:STANDARD
BEGIN:DAYLIGHT
TZOFFSETFROM:-0500
TZOFFSETTO:-0400
TZNAME:EDT
DTSTART:20270314T070000
END:DAYLIGHT
BEGIN:STANDARD
TZOFFSETFROM:-0400
TZOFFSETTO:-0500
TZNAME:EST
DTSTART:20271107T060000
END:STANDARD
END:VTIMEZONE
BEGIN:VEVENT
DTSTART;TZID=America/Toronto:20260513T190000
DTEND;TZID=America/Toronto:20260513T220000
DTSTAMP:20260421T094408
CREATED:20260420T134542Z
LAST-MODIFIED:20260420T140947Z
UID:10003963-1778698800-1778709600@wusa.ca
SUMMARY:Comedy Night
DESCRIPTION:Welcome Week needed a midweek moment. Here it is.  \nComedy Night is making its Welcome Week debut! There’s no better way to break the ice than a room full of people laughing together.  \nOpener Renee Groux gets the crowd going\, then headliner Ola Dada takes it home. One night. Come meet your people.  \n🎁 Show up for a chance to win the WUSA Ultimate Prize Pack!  \n🥤 Refreshments will be available while supplies last.  \nAbout the Performers  \nOla Dada  \nOla Dada is a Nigerian Canadian comedian whose special Unlimited Dada is streaming on Amazon Prime and Apple TV. He’s headlined Just for Laughs\, hosted the 2025 JUNO Awards comedy showcase\, and was a semi-finalist on Canada’s Got Talent. Known for sharp\, heartfelt storytelling rooted in his Nigerian upbringing and Canadian experience — this is an intimate show from one of Canada’s most exciting comedic voices. The kind you’ll be telling people you went to.  \n  \n  \nRenee Groux  \nRenee Groux is a stand-up comedian in Kitchener-Waterloo. She has appeared on Don’t Tell Comedy\, Guelph Comedy Festival\, and the 2022 Edinburgh Fringe Festival. She is also the co-producer and host of Fever Dream Comedy\, running Kitchener’s longest-running all-women showcase\, Girl Night. Her debut comedy album\, “We’re Not Friends” can be heard on SiriusXM – watch the full special on YouTube.  \n  \nContent Notice As with all live performances\, comedic content is not scripted or controlled by WUSA. We always want to do our best to ensure our events are a welcoming and safe space for all students. If you have concerns\, please reach out to us in advance at events@wusa.ca.  \nRSVP  \nRSVPs open May 1st — grab your spot before they’re gone. Limited spots available at the door\, first come first served.  \nEntry Requirements  \nThis event is exclusive to Waterloo undergraduate students who:  \n\nAre enrolled in Spring term courses or are on a work term/co-op\, and \nHave paid their Spring term fees. \n\nStudents who do not meet these requirements at check-in may be denied entry. Please bring your WatCard. This is an all-ages event.  \n⚠️ Accessibility note: If you require accommodations or support to participate\, please contact us in advance.  \nQuestions about the event? Email events@wusa.ca  \nStay in the loop — follow our socials and join our IG broadcast channel for exclusive event updates!  \nDisclaimer: Photographers & videographers will record this event. Images and audio may be broadcast\, reproduced and/or made available in print publications\, online or on mobile devices\, and may form part of one or more audio-visual productions intended for initial release on the internet\, television and on home or mobile devices. By attending this event\, you are consenting to the use of your appearance\, image\, and voice in the production and in any promotion or use of the production in any media thoughout the world.  \nEvent is subject to change. Visit this page for the most up to date details.  \n 
URL:https://wusa.ca/event/comedy-night/
LOCATION:The Bomber\, Student Life Centre\, 200 University Ave W\,\, Waterloo\, ON\, N2L 3L3\, Canada
CATEGORIES:The Bomber,Welcome Week
ATTACH;FMTTYPE=image/png:https://wusa.ca/wp-content/uploads/2026/04/Comedy-Night_Web.png
ORGANIZER;CN="Waterloo Undergraduate Student Association (WUSA)":MAILTO:events@wusa.ca
GEO:43.4718576;-80.5454194
X-APPLE-STRUCTURED-LOCATION;VALUE=URI;X-ADDRESS=The Bomber Student Life Centre 200 University Ave W Waterloo ON N2L 3L3 Canada;X-APPLE-RADIUS=500;X-TITLE=Student Life Centre\, 200 University Ave W\,:geo:-80.5454194,43.4718576
END:VEVENT
END:VCALENDAR