BEGIN:VCALENDAR
VERSION:2.0
PRODID:-//Waterloo Undergraduate Student Association - ECPv6.15.20//NONSGML v1.0//EN
CALSCALE:GREGORIAN
METHOD:PUBLISH
X-ORIGINAL-URL:https://wusa.ca
X-WR-CALDESC:Events for Waterloo Undergraduate Student Association
REFRESH-INTERVAL;VALUE=DURATION:PT1H
X-Robots-Tag:noindex
X-PUBLISHED-TTL:PT1H
BEGIN:VTIMEZONE
TZID:America/Toronto
BEGIN:DAYLIGHT
TZOFFSETFROM:-0500
TZOFFSETTO:-0400
TZNAME:EDT
DTSTART:20250309T070000
END:DAYLIGHT
BEGIN:STANDARD
TZOFFSETFROM:-0400
TZOFFSETTO:-0500
TZNAME:EST
DTSTART:20251102T060000
END:STANDARD
BEGIN:DAYLIGHT
TZOFFSETFROM:-0500
TZOFFSETTO:-0400
TZNAME:EDT
DTSTART:20260308T070000
END:DAYLIGHT
BEGIN:STANDARD
TZOFFSETFROM:-0400
TZOFFSETTO:-0500
TZNAME:EST
DTSTART:20261101T060000
END:STANDARD
BEGIN:DAYLIGHT
TZOFFSETFROM:-0500
TZOFFSETTO:-0400
TZNAME:EDT
DTSTART:20270314T070000
END:DAYLIGHT
BEGIN:STANDARD
TZOFFSETFROM:-0400
TZOFFSETTO:-0500
TZNAME:EST
DTSTART:20271107T060000
END:STANDARD
END:VTIMEZONE
BEGIN:VEVENT
DTSTART;TZID=America/Toronto:20260401T103000
DTEND;TZID=America/Toronto:20260401T123000
DTSTAMP:20260421T025754
CREATED:20260320T200702Z
LAST-MODIFIED:20260330T185719Z
UID:10003950-1775039400-1775046600@wusa.ca
SUMMARY:Student Food & Cooking Workshop Session #1
DESCRIPTION:FREE FOOD. FREE STUFF. FREE FUN 👀🔥 \nJoin our interactive cooking workshop where you’ll: \n✨ Watch a live cooking demo \n✨ Taste the food (yes\, FREE samples 😋) \n✨ Learn easy\, budget-friendly meals you’ll actually make \nAnd the best part… 👇 \n🥕 FREE mini grocery bag + recipe card (make the meal at home!) \n💳 Chance to win a grocery gift card! \nDiscover student-friendly food resources to help you eat better for less. Plus\, get real tips from a registered dietitian\, whether you’re trying to hit your protein goals\, save money\, or eat healthier\, we’ve got you covered. \n👉 Spots are limited\, sign up now. \nEvent Details\nDate: April 1Location: Black and Gold RoomTime:Session 1: 10:30 AM – 12:30 PMSession 2: 1:30 PM – 3:30 PM \nCost: Free \nRegister below to enter into the raffle and secure your spot! \nDrop-ins are also welcomed! \n\nDisclaimer: Photographers and videographers will record this event. Images and audio may be broadcast\, reproduced and/or made available in print publications\, online or on mobile devices\, and may form part of one or more audio-visual productions intended for initial release on the internet\, television and on home or mobile devices. By attending this event\, you are consenting to the use of your appearance\, image\, and voice in the production and in any promotion or use of the production in any media throughout the world.    \nEvent is subject to change. Visit this page for the most up to date details. 
URL:https://wusa.ca/event/student-food-cooking-workshop/
CATEGORIES:Advocacy,Food Event,Food Support Service
ATTACH;FMTTYPE=image/png:https://wusa.ca/wp-content/uploads/2026/03/Event-Web-Header-W26-Student-Food-Support-Cooking-Workshop.png
END:VEVENT
BEGIN:VEVENT
DTSTART;TZID=America/Toronto:20260401T133000
DTEND;TZID=America/Toronto:20260401T153000
DTSTAMP:20260421T025754
CREATED:20260326T162612Z
LAST-MODIFIED:20260330T185920Z
UID:10003954-1775050200-1775057400@wusa.ca
SUMMARY:Student Food and Cooking Workshop Session #2
DESCRIPTION:FREE FOOD. FREE STUFF. FREE FUN 👀🔥 \nJoin our interactive cooking workshop where you’ll: \n✨ Watch a live cooking demo \n✨ Taste the food (yes\, FREE samples 😋) \n✨ Learn easy\, budget-friendly meals you’ll actually make \nAnd the best part… 👇 \n🥕 FREE mini grocery bag + recipe card (make the meal at home!) \n💳 Chance to win a grocery gift card! \nDiscover student-friendly food resources to help you eat better for less. Plus\, get real tips from a registered dietitian\, whether you’re trying to hit your protein goals\, save money\, or eat healthier\, we’ve got you covered. \n👉 Spots are limited\, sign up now. \nEvent Details \nDate: April 1Location: Black and Gold RoomTime: 1:30 PM – 3:30 PM \nCost: Free \nRegister below to enter into the raffle and secure your spot! \nDrop-ins are also welcomed! \n\nDisclaimer: Photographers and videographers will record this event. Images and audio may be broadcast\, reproduced and/or made available in print publications\, online or on mobile devices\, and may form part of one or more audio-visual productions intended for initial release on the internet\, television and on home or mobile devices. By attending this event\, you are consenting to the use of your appearance\, image\, and voice in the production and in any promotion or use of the production in any media throughout the world.    \nEvent is subject to change. Visit this page for the most up to date details. 
URL:https://wusa.ca/event/student-food-and-cooking-workshop-session-2/
CATEGORIES:Advocacy,Food Event,Food Support Service,ICSN,Mates
ATTACH;FMTTYPE=image/png:https://wusa.ca/wp-content/uploads/2026/03/Event-Web-Header-W26-Student-Food-Support-Cooking-Workshop.png
END:VEVENT
END:VCALENDAR