BEGIN:VCALENDAR
VERSION:2.0
PRODID:-//Waterloo Undergraduate Student Association - ECPv6.15.20//NONSGML v1.0//EN
CALSCALE:GREGORIAN
METHOD:PUBLISH
X-ORIGINAL-URL:https://wusa.ca
X-WR-CALDESC:Events for Waterloo Undergraduate Student Association
REFRESH-INTERVAL;VALUE=DURATION:PT1H
X-Robots-Tag:noindex
X-PUBLISHED-TTL:PT1H
BEGIN:VTIMEZONE
TZID:America/Toronto
BEGIN:DAYLIGHT
TZOFFSETFROM:-0500
TZOFFSETTO:-0400
TZNAME:EDT
DTSTART:20250309T070000
END:DAYLIGHT
BEGIN:STANDARD
TZOFFSETFROM:-0400
TZOFFSETTO:-0500
TZNAME:EST
DTSTART:20251102T060000
END:STANDARD
BEGIN:DAYLIGHT
TZOFFSETFROM:-0500
TZOFFSETTO:-0400
TZNAME:EDT
DTSTART:20260308T070000
END:DAYLIGHT
BEGIN:STANDARD
TZOFFSETFROM:-0400
TZOFFSETTO:-0500
TZNAME:EST
DTSTART:20261101T060000
END:STANDARD
BEGIN:DAYLIGHT
TZOFFSETFROM:-0500
TZOFFSETTO:-0400
TZNAME:EDT
DTSTART:20270314T070000
END:DAYLIGHT
BEGIN:STANDARD
TZOFFSETFROM:-0400
TZOFFSETTO:-0500
TZNAME:EST
DTSTART:20271107T060000
END:STANDARD
END:VTIMEZONE
BEGIN:VEVENT
DTSTART;TZID=America/Toronto:20260508T160000
DTEND;TZID=America/Toronto:20260508T220000
DTSTAMP:20260421T072232
CREATED:20260325T172920Z
LAST-MODIFIED:20260420T193255Z
UID:10003952-1778256000-1778277600@wusa.ca
SUMMARY:University of Waterloo Aviation GALA
DESCRIPTION:Join us for our End of Year Dinner Gala\, where University of Waterloo Aviation students and industry professionals come together for an evening of connection\, networking\, and celebration. Hosted at Whistle Bear\, this event will recognize the dedication and achievements of our students throughout the year. The evening will also feature the official announcement of our new Council.
URL:https://wusa.ca/event/university-of-waterloo-aviation-gala/
LOCATION:Whistle Bear Golf Club\, 1316 Dickie Settlement Road\, Cambridge\, N3H 4R8
CATEGORIES:Awards,Entertainment
ATTACH;FMTTYPE=image/jpeg:https://wusa.ca/wp-content/uploads/2026/03/WhistleBear-clubhouse-v2.jpg
ORGANIZER;CN="UW Aviation Society":MAILTO:info@uwaviation.com
GEO:43.3693761;-80.3965229
X-APPLE-STRUCTURED-LOCATION;VALUE=URI;X-ADDRESS=Whistle Bear Golf Club 1316 Dickie Settlement Road Cambridge N3H 4R8;X-APPLE-RADIUS=500;X-TITLE=1316 Dickie Settlement Road:geo:-80.3965229,43.3693761
END:VEVENT
BEGIN:VEVENT
DTSTART;TZID=America/Toronto:20260508T160000
DTEND;TZID=America/Toronto:20260508T220000
DTSTAMP:20260421T072232
CREATED:20260410T023055Z
LAST-MODIFIED:20260410T023055Z
UID:10003958-1778256000-1778277600@wusa.ca
SUMMARY:University of Waterloo Aviation GALA
DESCRIPTION:Content is protected.
URL:https://wusa.ca/event/university-of-waterloo-aviation-gala-2/
CATEGORIES:Awards,Entertainment
ORGANIZER;CN="UW Aviation Society":MAILTO:info@uwaviation.com
END:VEVENT
BEGIN:VEVENT
DTSTART;TZID=America/Toronto:20260508T160000
DTEND;TZID=America/Toronto:20260508T220000
DTSTAMP:20260421T072232
CREATED:20260413T021335Z
LAST-MODIFIED:20260413T021335Z
UID:10003959-1778256000-1778277600@wusa.ca
SUMMARY:University of Waterloo Aviation GALA - WestJet
DESCRIPTION:Content is protected.
URL:https://wusa.ca/event/university-of-waterloo-aviation-gala-westjet/
CATEGORIES:Awards,Entertainment
ORGANIZER;CN="UW Aviation Society":MAILTO:info@uwaviation.com
END:VEVENT
END:VCALENDAR